BEGIN:VCALENDAR
VERSION:2.0
PRODID:-//Queens&#039; Provisions - ECPv6.15.20//NONSGML v1.0//EN
CALSCALE:GREGORIAN
METHOD:PUBLISH
X-WR-CALNAME:Queens&#039; Provisions
X-ORIGINAL-URL:https://queensofflint.com
X-WR-CALDESC:Events for Queens&#039; Provisions
REFRESH-INTERVAL;VALUE=DURATION:PT1H
X-Robots-Tag:noindex
X-PUBLISHED-TTL:PT1H
BEGIN:VTIMEZONE
TZID:UTC
BEGIN:STANDARD
TZOFFSETFROM:+0000
TZOFFSETTO:+0000
TZNAME:UTC
DTSTART:20250101T000000
END:STANDARD
END:VTIMEZONE
BEGIN:VEVENT
DTSTART;TZID=UTC:20260425T180000
DTEND;TZID=UTC:20260425T203000
DTSTAMP:20260423T120945
CREATED:20260403T200443Z
LAST-MODIFIED:20260403T200443Z
UID:1611-1777140000-1777149000@queensofflint.com
SUMMARY:Passages Storytelling: "Hand Picked" theme
DESCRIPTION:
URL:https://queensofflint.com/event/passages-storytelling-hand-picked-theme/
LOCATION:Queens’ Provisions\, 421 Garland St.\, Flint\, MI\, 48503\, United States
END:VEVENT
BEGIN:VEVENT
DTSTART;TZID=UTC:20260427T180000
DTEND;TZID=UTC:20260427T193000
DTSTAMP:20260423T120945
CREATED:20260403T200338Z
LAST-MODIFIED:20260403T200338Z
UID:1609-1777312800-1777318200@queensofflint.com
SUMMARY:"Sip and Script" Modern Calligraphy for Beginners workshop
DESCRIPTION:
URL:https://queensofflint.com/event/sip-and-script-modern-calligraphy-for-beginners-workshop/
LOCATION:Queens’ Provisions\, 421 Garland St.\, Flint\, MI\, 48503\, United States
END:VEVENT
BEGIN:VEVENT
DTSTART;TZID=UTC:20260428T180000
DTEND;TZID=UTC:20260428T193000
DTSTAMP:20260423T120945
CREATED:20260323T184109Z
LAST-MODIFIED:20260323T184109Z
UID:1589-1777399200-1777404600@queensofflint.com
SUMMARY:Spanish Conversation Club
DESCRIPTION:
URL:https://queensofflint.com/event/spanish-conversation-club-2/
LOCATION:Queens’ Provisions\, 421 Garland St.\, Flint\, MI\, 48503\, United States
ORGANIZER;CN="Emily Doerr":MAILTO:emily@queensofflint.com
END:VEVENT
BEGIN:VEVENT
DTSTART;TZID=UTC:20260429T183000
DTEND;TZID=UTC:20260429T200000
DTSTAMP:20260423T120945
CREATED:20260413T230151Z
LAST-MODIFIED:20260413T230410Z
UID:1650-1777487400-1777492800@queensofflint.com
SUMMARY:STAR WARS TRIVIA hosted by Jon and Lauren!
DESCRIPTION:With May (the 4th) coming up the week after…..
URL:https://queensofflint.com/event/star-wars-trivia-hosted-by-jon-and-lauren/
LOCATION:Queens’ Provisions\, 421 Garland St.\, Flint\, MI\, 48503\, United States
ORGANIZER;CN="Emily Doerr":MAILTO:emily@queensofflint.com
END:VEVENT
BEGIN:VEVENT
DTSTART;TZID=UTC:20260506T180000
DTEND;TZID=UTC:20260506T193000
DTSTAMP:20260423T120945
CREATED:20260413T225458Z
LAST-MODIFIED:20260413T230517Z
UID:1641-1778090400-1778095800@queensofflint.com
SUMMARY:4-course Dinner featuring wine from Amoritas Vineyards (Lake Leelanau\, MI)
DESCRIPTION:Tickets available now – Dinner by Chevon Wilborn and the wine will be presented by the winemakers / owners!
URL:https://queensofflint.com/event/4-course-dinner-featuring-wine-from-amoritas-vineyards-lake-leelanau-mi/
LOCATION:Queens’ Provisions\, 421 Garland St.\, Flint\, MI\, 48503\, United States
ORGANIZER;CN="Emily Doerr":MAILTO:emily@queensofflint.com
END:VEVENT
BEGIN:VEVENT
DTSTART;TZID=UTC:20260511T173000
DTEND;TZID=UTC:20260511T193000
DTSTAMP:20260423T120945
CREATED:20260415T175701Z
LAST-MODIFIED:20260415T175701Z
UID:1664-1778520600-1778527800@queensofflint.com
SUMMARY:Scholars on Tap: Dr. Steve Ondersma\, MSU Dept of Public Health "The Science of Human Behavior Change"
DESCRIPTION:
URL:https://queensofflint.com/event/scholars-on-tap-dr-steve-ondersma-msu-dept-of-public-health-the-science-of-human-behavior-change/
LOCATION:Queens’ Provisions\, 421 Garland St.\, Flint\, MI\, 48503\, United States
END:VEVENT
BEGIN:VEVENT
DTSTART;TZID=UTC:20260517T120000
DTEND;TZID=UTC:20260517T150000
DTSTAMP:20260423T120945
CREATED:20260220T165906Z
LAST-MODIFIED:20260403T203919Z
UID:1542-1779019200-1779030000@queensofflint.com
SUMMARY:Mimosas and Mixtapes: monthly brunch / sing-along / dance party
DESCRIPTION:Some pictures from previous events….
URL:https://queensofflint.com/event/mimosas-and-mixtapes-monthly-brunch-sing-along-dance-party-2/
LOCATION:Queens’ Provisions\, 421 Garland St.\, Flint\, MI\, 48503\, United States
ORGANIZER;CN="Emily Doerr":MAILTO:emily@queensofflint.com
END:VEVENT
END:VCALENDAR