BEGIN:VCALENDAR
VERSION:2.0
PRODID:-//Queens&#039; Provisions - ECPv6.15.20//NONSGML v1.0//EN
CALSCALE:GREGORIAN
METHOD:PUBLISH
X-ORIGINAL-URL:https://queensofflint.com
X-WR-CALDESC:Events for Queens&#039; Provisions
REFRESH-INTERVAL;VALUE=DURATION:PT1H
X-Robots-Tag:noindex
X-PUBLISHED-TTL:PT1H
BEGIN:VTIMEZONE
TZID:UTC
BEGIN:STANDARD
TZOFFSETFROM:+0000
TZOFFSETTO:+0000
TZNAME:UTC
DTSTART:20240101T000000
END:STANDARD
END:VTIMEZONE
BEGIN:VEVENT
DTSTART;TZID=UTC:20250501T180000
DTEND;TZID=UTC:20250501T200000
DTSTAMP:20260424T080233
CREATED:20250322T211531Z
LAST-MODIFIED:20250322T211531Z
UID:617-1746122400-1746129600@queensofflint.com
SUMMARY:2Lads Winery 5-course wine and small plates dinner pairing
DESCRIPTION:
URL:https://queensofflint.com/event/2lads-winery-5-course-wine-and-small-plates-dinner-pairing/
LOCATION:Queens’ Provisions\, 421 Garland St.\, Flint\, MI\, 48503\, United States
ORGANIZER;CN="Emily Doerr":MAILTO:emily@queensofflint.com
END:VEVENT
BEGIN:VEVENT
DTSTART;TZID=UTC:20250429T180000
DTEND;TZID=UTC:20250429T193000
DTSTAMP:20260424T080233
CREATED:20250416T234956Z
LAST-MODIFIED:20250416T234956Z
UID:646-1745949600-1745955000@queensofflint.com
SUMMARY:Next meetup: Monthly Spanish Conversation Club
DESCRIPTION:
URL:https://queensofflint.com/event/next-meetup-monthly-spanish-conversation-club/
LOCATION:Queens’ Provisions\, 421 Garland St.\, Flint\, MI\, 48503\, United States
ORGANIZER;CN="Emily Doerr":MAILTO:emily@queensofflint.com
END:VEVENT
BEGIN:VEVENT
DTSTART;TZID=UTC:20250428T170000
DTEND;TZID=UTC:20250428T200000
DTSTAMP:20260424T080233
CREATED:20250416T234736Z
LAST-MODIFIED:20250416T234736Z
UID:643-1745859600-1745870400@queensofflint.com
SUMMARY:Catalonian Celebration of St Jordi: books\, roses\, wine\, and love
DESCRIPTION:
URL:https://queensofflint.com/event/catalonian-celebration-of-st-jordi-books-roses-wine-and-love/
LOCATION:Queens’ Provisions\, 421 Garland St.\, Flint\, MI\, 48503\, United States
ORGANIZER;CN="Emily Doerr":MAILTO:emily@queensofflint.com
END:VEVENT
BEGIN:VEVENT
DTSTART;TZID=UTC:20250426T180000
DTEND;TZID=UTC:20250426T203000
DTSTAMP:20260424T080233
CREATED:20250415T031137Z
LAST-MODIFIED:20250415T031137Z
UID:636-1745690400-1745699400@queensofflint.com
SUMMARY:"Passages" Storytelling event: Backfired
DESCRIPTION:
URL:https://queensofflint.com/event/passages-storytelling-event-backfired/
LOCATION:Queens’ Provisions\, 421 Garland St.\, Flint\, MI\, 48503\, United States
ORGANIZER;CN="Emily Doerr":MAILTO:emily@queensofflint.com
END:VEVENT
BEGIN:VEVENT
DTSTART;TZID=UTC:20250423T183000
DTEND;TZID=UTC:20250423T203000
DTSTAMP:20260424T080233
CREATED:20250415T031417Z
LAST-MODIFIED:20250415T031417Z
UID:640-1745433000-1745440200@queensofflint.com
SUMMARY:Trivia every Wednesday - this week's theme is Shakespeare's birthday!!!!
DESCRIPTION:
URL:https://queensofflint.com/event/trivia-every-wednesday-this-weeks-theme-is-shakespeares-birthday/
LOCATION:Queens’ Provisions\, 421 Garland St.\, Flint\, MI\, 48503\, United States
ORGANIZER;CN="Emily Doerr":MAILTO:emily@queensofflint.com
END:VEVENT
BEGIN:VEVENT
DTSTART;TZID=UTC:20250422T170000
DTEND;TZID=UTC:20250422T183000
DTSTAMP:20260424T080233
CREATED:20250417T000806Z
LAST-MODIFIED:20250417T000806Z
UID:650-1745341200-1745346600@queensofflint.com
SUMMARY:Tasting Tuesday: 3Floyds beer and vodka splash
DESCRIPTION:
URL:https://queensofflint.com/event/tasting-tuesday-3floyds-beer-and-vodka-splash/
LOCATION:Queens’ Provisions\, 421 Garland St.\, Flint\, MI\, 48503\, United States
ORGANIZER;CN="Emily Doerr":MAILTO:emily@queensofflint.com
END:VEVENT
BEGIN:VEVENT
DTSTART;TZID=UTC:20250421T180000
DTEND;TZID=UTC:20250421T203000
DTSTAMP:20260424T080233
CREATED:20250415T030818Z
LAST-MODIFIED:20250415T031531Z
UID:632-1745258400-1745267400@queensofflint.com
SUMMARY:"Bottle Watch" movie night + blind wine taste test
DESCRIPTION:
URL:https://queensofflint.com/event/bottle-watch-film-watch-party-blind-wine-taste-test/
LOCATION:Queens’ Provisions\, 421 Garland St.\, Flint\, MI\, 48503\, United States
ORGANIZER;CN="Emily Doerr":MAILTO:emily@queensofflint.com
END:VEVENT
BEGIN:VEVENT
DTSTART;TZID=UTC:20250416T183000
DTEND;TZID=UTC:20250416T203000
DTSTAMP:20260424T080233
CREATED:20250415T030415Z
LAST-MODIFIED:20250415T031244Z
UID:629-1744828200-1744835400@queensofflint.com
SUMMARY:Trivia every Wednesday - this week's categories: The Office\, 30 Rock\, Parks & Rec\, Community
DESCRIPTION:
URL:https://queensofflint.com/event/trivia-every-wednesday/
LOCATION:Queens’ Provisions\, 421 Garland St.\, Flint\, MI\, 48503\, United States
ORGANIZER;CN="Emily Doerr":MAILTO:emily@queensofflint.com
END:VEVENT
BEGIN:VEVENT
DTSTART;TZID=UTC:20250405T140000
DTEND;TZID=UTC:20250405T160000
DTSTAMP:20260424T080233
CREATED:20250317T111856Z
LAST-MODIFIED:20250317T111856Z
UID:603-1743861600-1743868800@queensofflint.com
SUMMARY:Handmade Flint Yarn Brigade meet-up
DESCRIPTION:Bring a project to work on in the company of other creatives!
URL:https://queensofflint.com/event/handmade-flint-yarn-brigade-meet-up/
LOCATION:Queens’ Provisions\, 421 Garland St.\, Flint\, MI\, 48503\, United States
END:VEVENT
BEGIN:VEVENT
DTSTART;TZID=UTC:20250404T183000
DTEND;TZID=UTC:20250404T203000
DTSTAMP:20260424T080233
CREATED:20250317T001313Z
LAST-MODIFIED:20250317T001313Z
UID:600-1743791400-1743798600@queensofflint.com
SUMMARY:Thistle Groove Collective jazz trio for "First Fridays" downtown music series
DESCRIPTION:Thank you Greater Flint Arts Council for including Queens in your “First Fridays: Music on the Bricks” event series! We are so excited to have Thistle Groove Collective jazz trio (featuring Julie Huginin) starting at 6:30pm on April 4th!
URL:https://queensofflint.com/event/thistle-groove-collective-jazz-trio-for-first-fridays-downtown-music-series/
LOCATION:Queens’ Provisions\, 421 Garland St.\, Flint\, MI\, 48503\, United States
END:VEVENT
BEGIN:VEVENT
DTSTART;TZID=UTC:20250403T183000
DTEND;TZID=UTC:20250403T200000
DTSTAMP:20260424T080233
CREATED:20250316T235850Z
LAST-MODIFIED:20250316T235850Z
UID:597-1743705000-1743710400@queensofflint.com
SUMMARY:Kumusha South African wines 4 course tasting with small plates dinner
DESCRIPTION:Tickets available for $35/person now at this link – only 25 available!
URL:https://queensofflint.com/event/kumusha-south-african-wines-4-course-tasting-with-small-plates-dinner/
LOCATION:Queens’ Provisions\, 421 Garland St.\, Flint\, MI\, 48503\, United States
ORGANIZER;CN="Emily Doerr":MAILTO:emily@queensofflint.com
END:VEVENT
BEGIN:VEVENT
DTSTART;TZID=UTC:20250331T173000
DTEND;TZID=UTC:20250331T183000
DTSTAMP:20260424T080233
CREATED:20250325T195943Z
LAST-MODIFIED:20250325T221549Z
UID:623-1743442200-1743445800@queensofflint.com
SUMMARY:Monthly Spanish Conversation Club
DESCRIPTION:
URL:https://queensofflint.com/event/monthly-spanish-conversation-club/
LOCATION:Queens’ Provisions\, 421 Garland St.\, Flint\, MI\, 48503\, United States
ORGANIZER;CN="Emily Doerr":MAILTO:emily@queensofflint.com
END:VEVENT
BEGIN:VEVENT
DTSTART;TZID=UTC:20250329T180000
DTEND;TZID=UTC:20250329T210000
DTSTAMP:20260424T080233
CREATED:20250225T185741Z
LAST-MODIFIED:20250225T190130Z
UID:567-1743271200-1743282000@queensofflint.com
SUMMARY:"Passages" Storytelling event: Balancing Act
DESCRIPTION:
URL:https://queensofflint.com/event/passages-storytelling-event-balancing-act-free-event/
LOCATION:Queens’ Provisions\, 421 Garland St.\, Flint\, MI\, 48503\, United States
ORGANIZER;CN="Emily Doerr":MAILTO:emily@queensofflint.com
END:VEVENT
BEGIN:VEVENT
DTSTART;TZID=UTC:20250326T190000
DTEND;TZID=UTC:20250326T210000
DTSTAMP:20260424T080233
CREATED:20250315T104255Z
LAST-MODIFIED:20250315T104416Z
UID:582-1743015600-1743022800@queensofflint.com
SUMMARY:Weekly trivia - special topic "World Theatre Day" wsg Harvest Theatre Company
DESCRIPTION:
URL:https://queensofflint.com/event/trivia-night-world-theatre-day-wsg-harvest-theatre-company/
LOCATION:Queens’ Provisions\, 421 Garland St.\, Flint\, MI\, 48503\, United States
ORGANIZER;CN="Emily Doerr":MAILTO:emily@queensofflint.com
END:VEVENT
BEGIN:VEVENT
DTSTART;TZID=UTC:20250326T170000
DTEND;TZID=UTC:20250326T190000
DTSTAMP:20260424T080233
CREATED:20250315T110822Z
LAST-MODIFIED:20250315T110822Z
UID:593-1743008400-1743015600@queensofflint.com
SUMMARY:Impact100 Genesee County "Meet and Mingle"
DESCRIPTION:
URL:https://queensofflint.com/event/impact100-genesee-county-meet-and-mingle/
LOCATION:Queens’ Provisions\, 421 Garland St.\, Flint\, MI\, 48503\, United States
END:VEVENT
BEGIN:VEVENT
DTSTART;TZID=UTC:20250325T190000
DTEND;TZID=UTC:20250325T200000
DTSTAMP:20260424T080233
CREATED:20250315T105817Z
LAST-MODIFIED:20250315T105817Z
UID:589-1742929200-1742932800@queensofflint.com
SUMMARY:"Tasting Tuesday" - final wine club tasting for this quarter
DESCRIPTION:$130 for our Quarterly Wine Club gets you a tasting (with a partner / friend) and you get to pick the 6 bottles you want to take home! Email Emily@queensofflint.com
URL:https://queensofflint.com/event/tasting-tuesday-final-wine-club-tasting-for-this-quarter/
LOCATION:Queens’ Provisions\, 421 Garland St.\, Flint\, MI\, 48503\, United States
ORGANIZER;CN="Emily Doerr":MAILTO:emily@queensofflint.com
END:VEVENT
BEGIN:VEVENT
DTSTART;TZID=UTC:20250324T173000
DTEND;TZID=UTC:20250324T183000
DTSTAMP:20260424T080233
CREATED:20250315T110433Z
LAST-MODIFIED:20250315T110433Z
UID:591-1742837400-1742841000@queensofflint.com
SUMMARY:Flint Genesee Chamber Young Professionals Book Club - Womens' History Month
DESCRIPTION:
URL:https://queensofflint.com/event/flint-genesee-chamber-young-professionals-book-club-womens-history-month/
LOCATION:Queens’ Provisions\, 421 Garland St.\, Flint\, MI\, 48503\, United States
END:VEVENT
BEGIN:VEVENT
DTSTART;TZID=UTC:20250323T140000
DTEND;TZID=UTC:20250323T170000
DTSTAMP:20260424T080233
CREATED:20250319T131209Z
LAST-MODIFIED:20250321T003951Z
UID:610-1742738400-1742749200@queensofflint.com
SUMMARY:LatinX Women's History Month Networking Event and Workshop
DESCRIPTION:
URL:https://queensofflint.com/event/latinx-womens-history-month-networking-event-and-workshop/
LOCATION:Queens’ Provisions\, 421 Garland St.\, Flint\, MI\, 48503\, United States
END:VEVENT
BEGIN:VEVENT
DTSTART;TZID=UTC:20250321T183000
DTEND;TZID=UTC:20250321T203000
DTSTAMP:20260424T080233
CREATED:20250319T130036Z
LAST-MODIFIED:20250319T130631Z
UID:605-1742581800-1742589000@queensofflint.com
SUMMARY:Jason Waggoner\, singer / songwriter / guitarist
DESCRIPTION:Jason is sharing his guitar and vocals with Queens this Friday + we will have a pop-up food vendor from Flint Social Club / LatinX Center… stop by!
URL:https://queensofflint.com/event/jason-waggoner-singer-songwriter-guitarist/
LOCATION:Queens’ Provisions\, 421 Garland St.\, Flint\, MI\, 48503\, United States
ORGANIZER;CN="Emily Doerr":MAILTO:emily@queensofflint.com
END:VEVENT
BEGIN:VEVENT
DTSTART;TZID=UTC:20250319T183000
DTEND;TZID=UTC:20250319T203000
DTSTAMP:20260424T080233
CREATED:20250315T102830Z
LAST-MODIFIED:20250315T102924Z
UID:578-1742409000-1742416200@queensofflint.com
SUMMARY:Weekly trivia - special topic "UM General / Sports"
DESCRIPTION:
URL:https://queensofflint.com/event/weekly-trivia-special-topic-um-general-sports-trivia/
LOCATION:Queens’ Provisions\, 421 Garland St.\, Flint\, MI\, 48503\, United States
ORGANIZER;CN="Emily Doerr":MAILTO:emily@queensofflint.com
END:VEVENT
BEGIN:VEVENT
DTSTART;TZID=UTC:20250316T143000
DTEND;TZID=UTC:20250316T170000
DTSTAMP:20260424T080233
CREATED:20250315T101630Z
LAST-MODIFIED:20250315T110531Z
UID:576-1742135400-1742144400@queensofflint.com
SUMMARY:KKandles guided candle-making workshop (all supplies included)
DESCRIPTION:Email Kkeah at info@issakkandle.com with questions!
URL:https://queensofflint.com/event/kkandles-guided-candle-making-workshop-all-supplies-included/
LOCATION:Queens’ Provisions\, 421 Garland St.\, Flint\, MI\, 48503\, United States
END:VEVENT
BEGIN:VEVENT
DTSTART;TZID=UTC:20250315T180000
DTEND;TZID=UTC:20250315T220000
DTSTAMP:20260424T080233
CREATED:20250315T101243Z
LAST-MODIFIED:20250315T110555Z
UID:573-1742061600-1742076000@queensofflint.com
SUMMARY:"Wine and Rhymes" Presented by Jeff Skigh
DESCRIPTION:
URL:https://queensofflint.com/event/wine-and-rhymes-presented-by-jeff-skigh-2/
LOCATION:Queens’ Provisions\, 421 Garland St.\, Flint\, MI\, 48503\, United States
END:VEVENT
BEGIN:VEVENT
DTSTART;TZID=UTC:20250309T150000
DTEND;TZID=UTC:20250309T170000
DTSTAMP:20260424T080233
CREATED:20250225T185351Z
LAST-MODIFIED:20250225T185351Z
UID:564-1741532400-1741539600@queensofflint.com
SUMMARY:"Sips & Sweets" wine and Girl Scout Cookie pairing featuring all black female winemakers
DESCRIPTION:Come to Queens for a lovely early Spring afternoon celebrating an allstar lineup: Girl Scout Cookies paired with wine made by all black female winemakers led by Shennel Bias (new owner of Wine Crawl Detroit) hosted by Tamika Hicks of Paints\, Chalices\, and Hues who previously hosted this event at her studio! Tickets available now for $30 – save your spot!!
URL:https://queensofflint.com/event/sips-sweets-wine-and-girl-scout-cookie-pairing-featuring-all-black-female-winemakers/
LOCATION:Queens’ Provisions\, 421 Garland St.\, Flint\, MI\, 48503\, United States
ORGANIZER;CN="Emily Doerr":MAILTO:emily@queensofflint.com
END:VEVENT
BEGIN:VEVENT
DTSTART;TZID=UTC:20250308T180000
DTEND;TZID=UTC:20250308T200000
DTSTAMP:20260424T080233
CREATED:20250215T205724Z
LAST-MODIFIED:20250215T205753Z
UID:551-1741456800-1741464000@queensofflint.com
SUMMARY:Storytelling Workshop - guided by David Smith
DESCRIPTION:
URL:https://queensofflint.com/event/storytelling-workshop-guided-by-the-organizer-of-passages-event-series-free-admission/
LOCATION:Queens’ Provisions\, 421 Garland St.\, Flint\, MI\, 48503\, United States
ORGANIZER;CN="Emily Doerr":MAILTO:emily@queensofflint.com
END:VEVENT
BEGIN:VEVENT
DTSTART;TZID=UTC:20250307T183000
DTEND;TZID=UTC:20250307T203000
DTSTAMP:20260424T080233
CREATED:20250222T203318Z
LAST-MODIFIED:20250222T204007Z
UID:556-1741372200-1741379400@queensofflint.com
SUMMARY:Battle of the (Dry) Reds!
DESCRIPTION:Join us for what will be a very fun (dare we say rowdy?) evening of delicious wines and cheeses from around the world! Guided by certified sommelier Michael Cregar of Woodberry Wines\, this is for anyone interested in trying new wines and cheeses previously not available at Queens and learning some fun geography / history in a chill\, relaxed setting.
URL:https://queensofflint.com/event/battle-of-the-dry-reds/
LOCATION:Queens’ Provisions\, 421 Garland St.\, Flint\, MI\, 48503\, United States
ORGANIZER;CN="Emily Doerr":MAILTO:emily@queensofflint.com
END:VEVENT
BEGIN:VEVENT
DTSTART;TZID=UTC:20250228T180000
DTEND;TZID=UTC:20250228T210000
DTSTAMP:20260424T080233
CREATED:20250209T222522Z
LAST-MODIFIED:20250218T150027Z
UID:530-1740765600-1740776400@queensofflint.com
SUMMARY:Galentine's Paint'n'Sip Party - celebrate your friendships!
DESCRIPTION:This event hosted by Paints\, Chalices\, and Hues will be a fabulous night of friendship and fun and good wine! $45 gets you all the paint\, your canvas\, as well as an apron to borrow during painting and guided instruction for the painting\, plus a beverage (beer\, wine\, or non-alcoholic) and personal charcuterie plate! Only 20 tickets available – buy yours today!
URL:https://queensofflint.com/event/galentines-paintnsip-party/
LOCATION:Queens’ Provisions\, 421 Garland St.\, Flint\, MI\, 48503\, United States
ORGANIZER;CN="Emily Doerr":MAILTO:emily@queensofflint.com
END:VEVENT
BEGIN:VEVENT
DTSTART;TZID=UTC:20250222T180000
DTEND;TZID=UTC:20250222T210000
DTSTAMP:20260424T080233
CREATED:20250215T205532Z
LAST-MODIFIED:20250215T205532Z
UID:547-1740247200-1740258000@queensofflint.com
SUMMARY:Passages Storytelling Event: Pet Peeves (free admission!)
DESCRIPTION:
URL:https://queensofflint.com/event/passages-storytelling-event-pet-peeves-free-admission/
LOCATION:Queens’ Provisions\, 421 Garland St.\, Flint\, MI\, 48503\, United States
ORGANIZER;CN="Emily Doerr":MAILTO:emily@queensofflint.com
END:VEVENT
BEGIN:VEVENT
DTSTART;TZID=UTC:20250218T180000
DTEND;TZID=UTC:20250218T190000
DTSTAMP:20260424T080233
CREATED:20250213T212446Z
LAST-MODIFIED:20250213T212624Z
UID:543-1739901600-1739905200@queensofflint.com
SUMMARY:"Tasting Tuesday" - 4 wines to try with our raclette service!
DESCRIPTION:This is a great opportunity to try our raclette service (purchased separately) because this time you’ll get to try 4 wines that pair with it!! For this “Tasting Tuesday” we have local sommelier Hassan Rutherford joining us to talk about each of the wines and why each pairing\, in its own way\, is a lovely match for the delicious cheese / potato / bread / pickle / jam / mustard dish! Purchase your ticket now to reserve your spot or you can buy at the door!
URL:https://queensofflint.com/event/543/
LOCATION:Queens’ Provisions\, 421 Garland St.\, Flint\, MI\, 48503\, United States
ORGANIZER;CN="Emily Doerr":MAILTO:emily@queensofflint.com
END:VEVENT
BEGIN:VEVENT
DTSTART;TZID=UTC:20250213T080000
DTEND;TZID=UTC:20250213T170000
DTSTAMP:20260424T080233
CREATED:20250213T211749Z
LAST-MODIFIED:20250213T211749Z
UID:537-1739433600-1739466000@queensofflint.com
SUMMARY:"Tasting Tuesday" - 4 wines with raclette - recommendations given by local sommelier Hassan Rutherford
DESCRIPTION:This is best day to try our raclette service (purchased separately) because for $10 you get to try 4 wines recommended by local sommelier Hassan Rutherford – he’ll describe the wines and why they are each (in their own way) a fantastic pairing with the delicious melted cheese\, roasted potatoes\, bread\, pickles\, sour mustard\, and fig jam! \nTickets available here to reserve your seats for the wine tasting; the raclette can be purchased separately upon your arrival at Queens!
URL:https://queensofflint.com/event/tasting-tuesday-4-wines-with-raclette-recommendations-given-by-local-sommelier-hassan-rutherford/
LOCATION:MI
END:VEVENT
BEGIN:VEVENT
DTSTART;TZID=UTC:20250211T180000
DTEND;TZID=UTC:20250211T190000
DTSTAMP:20260424T080233
CREATED:20250209T195651Z
LAST-MODIFIED:20250209T195826Z
UID:523-1739296800-1739300400@queensofflint.com
SUMMARY:"Tasting Tuesday" - 5 Spanish Wines each paired with tinned fish - hosted by Sean Sutton\, VinVi&Co
DESCRIPTION:Join us on Tuesday\, February 11th at 6pm for some delicious wines and interesting protein pairings! Just a taste will help expand your palette and give us feedback about whether we need to add these “conservas” to our menu…. just $10/person! \nBuy your ticket online to reserve your spot or tickets available at the door!
URL:https://queensofflint.com/event/tasting-tuesday-5-spanish-wines-each-paired-with-tinned-fish-hosted-by-sean-sutton-vinvico/
LOCATION:Queens’ Provisions\, 421 Garland St.\, Flint\, MI\, 48503\, United States
ORGANIZER;CN="Emily Doerr":MAILTO:emily@queensofflint.com
END:VEVENT
END:VCALENDAR