BEGIN:VCALENDAR
VERSION:2.0
PRODID:-//Queens&#039; Provisions - ECPv6.15.20//NONSGML v1.0//EN
CALSCALE:GREGORIAN
METHOD:PUBLISH
X-ORIGINAL-URL:https://queensofflint.com
X-WR-CALDESC:Events for Queens&#039; Provisions
REFRESH-INTERVAL;VALUE=DURATION:PT1H
X-Robots-Tag:noindex
X-PUBLISHED-TTL:PT1H
BEGIN:VTIMEZONE
TZID:UTC
BEGIN:STANDARD
TZOFFSETFROM:+0000
TZOFFSETTO:+0000
TZNAME:UTC
DTSTART:20250101T000000
END:STANDARD
END:VTIMEZONE
BEGIN:VEVENT
DTSTART;TZID=UTC:20260308T120000
DTEND;TZID=UTC:20260308T150000
DTSTAMP:20260423T161442
CREATED:20260112T112435Z
LAST-MODIFIED:20260112T124811Z
UID:1394-1772971200-1772982000@queensofflint.com
SUMMARY:Mimosas and Mixtapes: Monthly Brunch + Dance Party + Singalong
DESCRIPTION:Get your ticket now!
URL:https://queensofflint.com/event/mimosas-and-mixtapes-monthly-brunch-dance-party-singalong-2/
LOCATION:Queens’ Provisions\, 421 Garland St.\, Flint\, MI\, 48503\, United States
ORGANIZER;CN="Emily Doerr":MAILTO:emily@queensofflint.com
END:VEVENT
BEGIN:VEVENT
DTSTART;TZID=UTC:20260307T150000
DTEND;TZID=UTC:20260307T170000
DTSTAMP:20260423T161442
CREATED:20260226T011609Z
LAST-MODIFIED:20260226T011609Z
UID:1559-1772895600-1772902800@queensofflint.com
SUMMARY:Girl Scout Cookie + Michigan Wine Tasting
DESCRIPTION:Everyone loved last year’s event so Tamika brought it back again! Tickets for sale now!
URL:https://queensofflint.com/event/girl-scout-cookie-michigan-wine-tasting/
LOCATION:Queens’ Provisions\, 421 Garland St.\, Flint\, MI\, 48503\, United States
END:VEVENT
BEGIN:VEVENT
DTSTART;TZID=UTC:20260306T190000
DTEND;TZID=UTC:20260306T210000
DTSTAMP:20260423T161442
CREATED:20260211T173104Z
LAST-MODIFIED:20260211T173104Z
UID:1499-1772823600-1772830800@queensofflint.com
SUMMARY:Jazz Trio "Thistle Groove Collective" sponsored by GFAC
DESCRIPTION:
URL:https://queensofflint.com/event/jazz-trio-thistle-groove-collective-sponsored-by-gfac/
LOCATION:Queens’ Provisions\, 421 Garland St.\, Flint\, MI\, 48503\, United States
END:VEVENT
BEGIN:VEVENT
DTSTART;TZID=UTC:20260304T183000
DTEND;TZID=UTC:20260304T200000
DTSTAMP:20260423T161442
CREATED:20260211T173418Z
LAST-MODIFIED:20260211T173418Z
UID:1506-1772649000-1772654400@queensofflint.com
SUMMARY:Trivia 3/4: Pokemon (in honor of its 30th anniversary)
DESCRIPTION:
URL:https://queensofflint.com/event/trivia-3-4-pokemon-in-honor-of-its-30th-anniversary/
LOCATION:Queens’ Provisions\, 421 Garland St.\, Flint\, MI\, 48503\, United States
ORGANIZER;CN="Emily Doerr":MAILTO:emily@queensofflint.com
END:VEVENT
BEGIN:VEVENT
DTSTART;TZID=UTC:20260302T180000
DTEND;TZID=UTC:20260302T200000
DTSTAMP:20260423T161442
CREATED:20260213T141238Z
LAST-MODIFIED:20260213T141238Z
UID:1527-1772474400-1772481600@queensofflint.com
SUMMARY:Every Monday: Board Game Night!
DESCRIPTION:
URL:https://queensofflint.com/event/every-monday-board-game-night-3/
LOCATION:Queens’ Provisions\, 421 Garland St.\, Flint\, MI\, 48503\, United States
END:VEVENT
BEGIN:VEVENT
DTSTART;TZID=UTC:20260228T180000
DTEND;TZID=UTC:20260228T210000
DTSTAMP:20260423T161442
CREATED:20260211T172942Z
LAST-MODIFIED:20260211T172942Z
UID:1496-1772301600-1772312400@queensofflint.com
SUMMARY:Passages Storytelling (2 YEAR ANNIVERSARY) - Theme "Chosen Family"
DESCRIPTION:
URL:https://queensofflint.com/event/passages-storytelling-2-year-anniversary-theme-chosen-family/
LOCATION:Queens’ Provisions\, 421 Garland St.\, Flint\, MI\, 48503\, United States
END:VEVENT
BEGIN:VEVENT
DTSTART;TZID=UTC:20260228T083000
DTEND;TZID=UTC:20260301T200000
DTSTAMP:20260423T161442
CREATED:20260112T112925Z
LAST-MODIFIED:20260211T172028Z
UID:1396-1772267400-1772395200@queensofflint.com
SUMMARY:Winter Wine-derland bus trip / 6 wineries / overnight visit to Traverse City
DESCRIPTION:Tickets available now for this fabulous overnight adventure!!
URL:https://queensofflint.com/event/winter-wine-derland-bus-trip-5-wineries-overnight-visit-to-traverse-city/
LOCATION:MI
ORGANIZER;CN="Emily Doerr":MAILTO:emily@queensofflint.com
END:VEVENT
BEGIN:VEVENT
DTSTART;TZID=UTC:20260227T180000
DTEND;TZID=UTC:20260227T200000
DTSTAMP:20260423T161442
CREATED:20260211T174036Z
LAST-MODIFIED:20260212T194924Z
UID:1509-1772215200-1772222400@queensofflint.com
SUMMARY:2-Day Workshop: Make&Take Ceramic Charcuterie Trays (10 spots only) - Day 1 in February; Day 2 in March
DESCRIPTION:$65 gets you both workshops with local ceramic artist and teacher Kaitlyn Johnson – buy your ticket today!
URL:https://queensofflint.com/event/2-day-workshop-maketake-ceramic-charcuterie-trays-10-spots-only/
LOCATION:Queens’ Provisions\, 421 Garland St.\, Flint\, MI\, 48503\, United States
ORGANIZER;CN="Emily Doerr":MAILTO:emily@queensofflint.com
END:VEVENT
BEGIN:VEVENT
DTSTART;TZID=UTC:20260226T190000
DTEND;TZID=UTC:20260226T210000
DTSTAMP:20260423T161442
CREATED:20260226T011713Z
LAST-MODIFIED:20260226T011739Z
UID:1561-1772132400-1772139600@queensofflint.com
SUMMARY:Gothic Funk Salon: Conversation with local poet / Writing workshop
DESCRIPTION:
URL:https://queensofflint.com/event/gothic-funk-salon/
LOCATION:Queens’ Provisions\, 421 Garland St.\, Flint\, MI\, 48503\, United States
END:VEVENT
BEGIN:VEVENT
DTSTART;TZID=UTC:20260225T183000
DTEND;TZID=UTC:20260225T200000
DTSTAMP:20260423T161442
CREATED:20260211T173323Z
LAST-MODIFIED:20260211T173323Z
UID:1504-1772044200-1772049600@queensofflint.com
SUMMARY:Trivia 2/25: February Days in History / Road Trips / Famous Dogs
DESCRIPTION:
URL:https://queensofflint.com/event/trivia-2-25-february-days-in-history-road-trips-famous-dogs/
LOCATION:Queens’ Provisions\, 421 Garland St.\, Flint\, MI\, 48503\, United States
ORGANIZER;CN="Emily Doerr":MAILTO:emily@queensofflint.com
END:VEVENT
BEGIN:VEVENT
DTSTART;TZID=UTC:20260223T180000
DTEND;TZID=UTC:20260223T200000
DTSTAMP:20260423T161442
CREATED:20260213T134846Z
LAST-MODIFIED:20260213T134846Z
UID:1525-1771869600-1771876800@queensofflint.com
SUMMARY:Every Monday: Board Game Night!
DESCRIPTION:
URL:https://queensofflint.com/event/every-monday-board-game-night-2/
LOCATION:Queens’ Provisions\, 421 Garland St.\, Flint\, MI\, 48503\, United States
END:VEVENT
BEGIN:VEVENT
DTSTART;TZID=UTC:20260221T150000
DTEND;TZID=UTC:20260221T180000
DTSTAMP:20260423T161442
CREATED:20260213T134550Z
LAST-MODIFIED:20260213T134550Z
UID:1520-1771686000-1771696800@queensofflint.com
SUMMARY:Happy 106th Birthday to the League of Women Voters!
DESCRIPTION:Sat\, Feb 21 | 3–6 PM\nLearn about how you can help strengthen our democracy!\nFilm:“What the Constitution Means to Me” starts at 4 PM\nCharcuterie and Soup provided for all attendees; wine & beer on your own\n\nRSVP by Feb 18 — reply with how many are coming!\n(Send email to lwvflintarea@gmail.com – with the number of guests\, your name and phone#)\n\n Donations welcome — support the Women’s Suffrage Monument in D.C.\n\nBring a friend\, stay awhile\, and let’s toast to history\, community & inspiration!
URL:https://queensofflint.com/event/happy-106th-birthday-to-the-league-of-women-voters/
LOCATION:Queens’ Provisions\, 421 Garland St.\, Flint\, MI\, 48503\, United States
ORGANIZER;CN="Emily Doerr":MAILTO:emily@queensofflint.com
END:VEVENT
BEGIN:VEVENT
DTSTART;TZID=UTC:20260220T180000
DTEND;TZID=UTC:20260220T200000
DTSTAMP:20260423T161442
CREATED:20260211T172832Z
LAST-MODIFIED:20260211T172832Z
UID:1493-1771610400-1771617600@queensofflint.com
SUMMARY:Friday Night Dinner Pop-up: Monarca Ramen!!!
DESCRIPTION:
URL:https://queensofflint.com/event/friday-night-dinner-pop-up-monarca-ramen/
LOCATION:Queens’ Provisions\, 421 Garland St.\, Flint\, MI\, 48503\, United States
END:VEVENT
BEGIN:VEVENT
DTSTART;TZID=UTC:20260219T190000
DTEND;TZID=UTC:20260219T203000
DTSTAMP:20260423T161442
CREATED:20260211T172732Z
LAST-MODIFIED:20260211T172732Z
UID:1490-1771527600-1771533000@queensofflint.com
SUMMARY:Poetry@Provisions: Poetry-only Open mic WSG AshleyCae
DESCRIPTION:
URL:https://queensofflint.com/event/poetryprovisions-poetry-only-open-mic-wsg-ashleycae/
LOCATION:Queens’ Provisions\, 421 Garland St.\, Flint\, MI\, 48503\, United States
END:VEVENT
BEGIN:VEVENT
DTSTART;TZID=UTC:20260218T183000
DTEND;TZID=UTC:20260218T200000
DTSTAMP:20260423T161442
CREATED:20260211T172608Z
LAST-MODIFIED:20260211T172608Z
UID:1488-1771439400-1771444800@queensofflint.com
SUMMARY:Trivia 2/18: BLACK HISTORY MONTH
DESCRIPTION:
URL:https://queensofflint.com/event/trivia-2-18-black-history-month/
LOCATION:Queens’ Provisions\, 421 Garland St.\, Flint\, MI\, 48503\, United States
ORGANIZER;CN="Emily Doerr":MAILTO:emily@queensofflint.com
END:VEVENT
BEGIN:VEVENT
DTSTART;TZID=UTC:20260217T180000
DTEND;TZID=UTC:20260217T200000
DTSTAMP:20260423T161442
CREATED:20260211T172524Z
LAST-MODIFIED:20260211T172524Z
UID:1485-1771351200-1771358400@queensofflint.com
SUMMARY:Mardi Gras Dinner Pop-up with Local Grocer!!
DESCRIPTION:
URL:https://queensofflint.com/event/mardi-gras-dinner-pop-up-with-local-grocer/
LOCATION:Queens’ Provisions\, 421 Garland St.\, Flint\, MI\, 48503\, United States
ORGANIZER;CN="Emily Doerr":MAILTO:emily@queensofflint.com
END:VEVENT
BEGIN:VEVENT
DTSTART;TZID=UTC:20260216T180000
DTEND;TZID=UTC:20260216T200000
DTSTAMP:20260423T161442
CREATED:20260213T134735Z
LAST-MODIFIED:20260213T134735Z
UID:1523-1771264800-1771272000@queensofflint.com
SUMMARY:Every Monday: Board Game Night!
DESCRIPTION:
URL:https://queensofflint.com/event/every-monday-board-game-night/
LOCATION:Queens’ Provisions\, 421 Garland St.\, Flint\, MI\, 48503\, United States
END:VEVENT
BEGIN:VEVENT
DTSTART;TZID=UTC:20260215T120000
DTEND;TZID=UTC:20260215T150000
DTSTAMP:20260423T161442
CREATED:20260112T112323Z
LAST-MODIFIED:20260211T173203Z
UID:1392-1771156800-1771167600@queensofflint.com
SUMMARY:SOLD OUT: Mimosas and Mixtapes: Monthly Brunch + Dance Party + Singalong
DESCRIPTION:Get your tickets now!
URL:https://queensofflint.com/event/mimosas-and-mixtapes-monthly-brunch-dance-party-singalong/
LOCATION:Queens’ Provisions\, 421 Garland St.\, Flint\, MI\, 48503\, United States
ORGANIZER;CN="Emily Doerr":MAILTO:emily@queensofflint.com
END:VEVENT
BEGIN:VEVENT
DTSTART;TZID=UTC:20260214T130000
DTEND;TZID=UTC:20260214T180000
DTSTAMP:20260423T161442
CREATED:20260112T112145Z
LAST-MODIFIED:20260112T124654Z
UID:1389-1771074000-1771092000@queensofflint.com
SUMMARY:3rd Annual Bubbly Fest!!
DESCRIPTION:Get your ticket now!!
URL:https://queensofflint.com/event/3rd-annual-bubbly-fest/
LOCATION:Queens’ Provisions\, 421 Garland St.\, Flint\, MI\, 48503\, United States
ORGANIZER;CN="Emily Doerr":MAILTO:emily@queensofflint.com
END:VEVENT
BEGIN:VEVENT
DTSTART;TZID=UTC:20260213T180000
DTEND;TZID=UTC:20260213T210000
DTSTAMP:20260423T161442
CREATED:20260211T172418Z
LAST-MODIFIED:20260211T172418Z
UID:1482-1771005600-1771016400@queensofflint.com
SUMMARY:ArtWalk "Love & Poetry" Open Mic hosted by Wellness Services
DESCRIPTION:
URL:https://queensofflint.com/event/artwalk-love-poetry-open-mic-hosted-by-wellness-services/
LOCATION:Queens’ Provisions\, 421 Garland St.\, Flint\, MI\, 48503\, United States
END:VEVENT
BEGIN:VEVENT
DTSTART;TZID=UTC:20260212T173000
DTEND;TZID=UTC:20260212T203000
DTSTAMP:20260423T161442
CREATED:20260211T172301Z
LAST-MODIFIED:20260211T172301Z
UID:1479-1770917400-1770928200@queensofflint.com
SUMMARY:Thursday Night Grilled Cheese Dinner: French Onion Soup -inspired sandwich!
DESCRIPTION:
URL:https://queensofflint.com/event/thursday-night-grilled-cheese-dinner-french-onion-soup-inspired-sandwich/
LOCATION:Queens’ Provisions\, 421 Garland St.\, Flint\, MI\, 48503\, United States
ORGANIZER;CN="Emily Doerr":MAILTO:emily@queensofflint.com
END:VEVENT
BEGIN:VEVENT
DTSTART;TZID=UTC:20260211T183000
DTEND;TZID=UTC:20260211T200000
DTSTAMP:20260423T161442
CREATED:20260211T172150Z
LAST-MODIFIED:20260211T172150Z
UID:1476-1770834600-1770840000@queensofflint.com
SUMMARY:Trivia 2/11 - THINGS WE LOVE (including blind taste test category)
DESCRIPTION:
URL:https://queensofflint.com/event/trivia-2-11-things-we-love-including-blind-taste-test-category/
LOCATION:Queens’ Provisions\, 421 Garland St.\, Flint\, MI\, 48503\, United States
ORGANIZER;CN="Emily Doerr":MAILTO:emily@queensofflint.com
END:VEVENT
BEGIN:VEVENT
DTSTART;TZID=UTC:20260206T190000
DTEND;TZID=UTC:20260206T220000
DTSTAMP:20260423T161442
CREATED:20260112T113337Z
LAST-MODIFIED:20260112T113337Z
UID:1402-1770404400-1770415200@queensofflint.com
SUMMARY:Spanish Language Karaoke
DESCRIPTION:Plus a food pop-up selling a delicious dinner!
URL:https://queensofflint.com/event/spanish-language-karaoke-3/
LOCATION:Queens’ Provisions\, 421 Garland St.\, Flint\, MI\, 48503\, United States
END:VEVENT
BEGIN:VEVENT
DTSTART;TZID=UTC:20260204T183000
DTEND;TZID=UTC:20260204T200000
DTSTAMP:20260423T161442
CREATED:20260112T114759Z
LAST-MODIFIED:20260112T114759Z
UID:1414-1770229800-1770235200@queensofflint.com
SUMMARY:Weekly Trivia at Queens
DESCRIPTION:
URL:https://queensofflint.com/event/weekly-trivia-at-queens-4/
LOCATION:Queens’ Provisions\, 421 Garland St.\, Flint\, MI\, 48503\, United States
ORGANIZER;CN="Emily Doerr":MAILTO:emily@queensofflint.com
END:VEVENT
BEGIN:VEVENT
DTSTART;TZID=UTC:20260202T180000
DTEND;TZID=UTC:20260202T200000
DTSTAMP:20260423T161442
CREATED:20260126T063920Z
LAST-MODIFIED:20260126T064759Z
UID:1459-1770055200-1770062400@queensofflint.com
SUMMARY:Game Night every Monday!!
DESCRIPTION:
URL:https://queensofflint.com/event/game-night-every-monday/
LOCATION:Queens’ Provisions\, 421 Garland St.\, Flint\, MI\, 48503\, United States
END:VEVENT
BEGIN:VEVENT
DTSTART;TZID=UTC:20260131T130000
DTEND;TZID=UTC:20260131T153000
DTSTAMP:20260423T161442
CREATED:20260113T210949Z
LAST-MODIFIED:20260113T211014Z
UID:1440-1769864400-1769873400@queensofflint.com
SUMMARY:Flint Genesee LGBTQIA Nexus Collective
DESCRIPTION:
URL:https://queensofflint.com/event/flint-genesee-lgbtqia-nexus-collective/
LOCATION:Queens’ Provisions\, 421 Garland St.\, Flint\, MI\, 48503\, United States
END:VEVENT
BEGIN:VEVENT
DTSTART;TZID=UTC:20260130T190000
DTEND;TZID=UTC:20260130T220000
DTSTAMP:20260423T161442
CREATED:20260112T113235Z
LAST-MODIFIED:20260112T113235Z
UID:1400-1769799600-1769810400@queensofflint.com
SUMMARY:Spanish Language Karaoke
DESCRIPTION:Plus a food pop-up selling a delicious dinner!
URL:https://queensofflint.com/event/spanish-language-karaoke-2/
LOCATION:Queens’ Provisions\, 421 Garland St.\, Flint\, MI\, 48503\, United States
END:VEVENT
BEGIN:VEVENT
DTSTART;TZID=UTC:20260128T183000
DTEND;TZID=UTC:20260128T200000
DTSTAMP:20260423T161442
CREATED:20260112T114709Z
LAST-MODIFIED:20260112T114709Z
UID:1412-1769625000-1769630400@queensofflint.com
SUMMARY:Weekly Trivia at Queens
DESCRIPTION:
URL:https://queensofflint.com/event/weekly-trivia-at-queens-3/
LOCATION:Queens’ Provisions\, 421 Garland St.\, Flint\, MI\, 48503\, United States
ORGANIZER;CN="Emily Doerr":MAILTO:emily@queensofflint.com
END:VEVENT
BEGIN:VEVENT
DTSTART;TZID=UTC:20260127T180000
DTEND;TZID=UTC:20260127T193000
DTSTAMP:20260423T161442
CREATED:20260126T064334Z
LAST-MODIFIED:20260126T064334Z
UID:1461-1769536800-1769542200@queensofflint.com
SUMMARY:Monthly [Free] Spanish Conversation Club - new people welcome
DESCRIPTION:
URL:https://queensofflint.com/event/monthly-free-spanish-conversation-club-new-people-welcome/
LOCATION:Queens’ Provisions\, 421 Garland St.\, Flint\, MI\, 48503\, United States
ORGANIZER;CN="Emily Doerr":MAILTO:emily@queensofflint.com
END:VEVENT
BEGIN:VEVENT
DTSTART;TZID=UTC:20260126T180000
DTEND;TZID=UTC:20260126T200000
DTSTAMP:20260423T161442
CREATED:20260126T064544Z
LAST-MODIFIED:20260126T064544Z
UID:1464-1769450400-1769457600@queensofflint.com
SUMMARY:Weekly Game Night [free!]
DESCRIPTION:
URL:https://queensofflint.com/event/weekly-game-night-free/
LOCATION:MI
END:VEVENT
END:VCALENDAR