BEGIN:VCALENDAR
VERSION:2.0
PRODID:-//Queens&#039; Provisions - ECPv6.15.20//NONSGML v1.0//EN
CALSCALE:GREGORIAN
METHOD:PUBLISH
X-WR-CALNAME:Queens&#039; Provisions
X-ORIGINAL-URL:https://queensofflint.com
X-WR-CALDESC:Events for Queens&#039; Provisions
REFRESH-INTERVAL;VALUE=DURATION:PT1H
X-Robots-Tag:noindex
X-PUBLISHED-TTL:PT1H
BEGIN:VTIMEZONE
TZID:UTC
BEGIN:STANDARD
TZOFFSETFROM:+0000
TZOFFSETTO:+0000
TZNAME:UTC
DTSTART:20240101T000000
END:STANDARD
END:VTIMEZONE
BEGIN:VEVENT
DTSTART;TZID=UTC:20251202T173000
DTEND;TZID=UTC:20251202T193000
DTSTAMP:20260424T005459
CREATED:20251114T134456Z
LAST-MODIFIED:20251114T134456Z
UID:1330-1764696600-1764703800@queensofflint.com
SUMMARY:Twig End Farm: Wreath Making Workshop
DESCRIPTION:Buy your tickets here!
URL:https://queensofflint.com/event/twig-end-farm-wreath-making-workshop-2/
LOCATION:Queens’ Provisions\, 421 Garland St.\, Flint\, MI\, 48503\, United States
END:VEVENT
BEGIN:VEVENT
DTSTART;TZID=UTC:20251201T180000
DTEND;TZID=UTC:20251201T200000
DTSTAMP:20260424T005459
CREATED:20251114T044637Z
LAST-MODIFIED:20251114T044637Z
UID:1310-1764612000-1764619200@queensofflint.com
SUMMARY:Wellness Services "World AIDS Day" Commemoration + Trivia Night
DESCRIPTION:
URL:https://queensofflint.com/event/wellness-services-world-aids-day-commemoration-trivia-night/
LOCATION:Queens’ Provisions\, 421 Garland St.\, Flint\, MI\, 48503\, United States
END:VEVENT
BEGIN:VEVENT
DTSTART;VALUE=DATE:20251127
DTEND;VALUE=DATE:20251201
DTSTAMP:20260424T005459
CREATED:20251103T003352Z
LAST-MODIFIED:20251103T003352Z
UID:1289-1764201600-1764547199@queensofflint.com
SUMMARY:Closed November 27-30 for Thanksgiving Holiday
DESCRIPTION:The day before Thanksgiving we’ll be open 4- 9pm & we have lots of wine that pairs great with turkey!! \n \n 
URL:https://queensofflint.com/event/closed-november-27-30-for-thanksgiving-holiday/
LOCATION:MI
END:VEVENT
BEGIN:VEVENT
DTSTART;TZID=UTC:20251125T180000
DTEND;TZID=UTC:20251125T193000
DTSTAMP:20260424T005459
CREATED:20251103T001325Z
LAST-MODIFIED:20251108T213916Z
UID:1277-1764093600-1764099000@queensofflint.com
SUMMARY:Monthly Spanish Conversation Club
DESCRIPTION:
URL:https://queensofflint.com/event/monthly-spanish-conversation-club-2/
LOCATION:Queens’ Provisions\, 421 Garland St.\, Flint\, MI\, 48503\, United States
END:VEVENT
BEGIN:VEVENT
DTSTART;TZID=UTC:20251123T120000
DTEND;TZID=UTC:20251123T180000
DTSTAMP:20260424T005459
CREATED:20251117T172052Z
LAST-MODIFIED:20251117T172257Z
UID:1339-1763899200-1763920800@queensofflint.com
SUMMARY:We Love Michigan Day!
DESCRIPTION:Do you love Michigan just as much as we do? Join us on Sunday\, November 23rd to share that love! To display our adoration for this great state\, we will be playing euchre\, hosting a coney sauce contest\, serving Vernors mimosas and showing the Lions game. Come show us what you’ve got! Winner of the coney sauce contest will win a $25 gift card to our shop and major bragging rights! So whether you’re competing\, eating\, playing euchre\, or simply just watching the game\, we would love to have you join our Michigander party. \n 
URL:https://queensofflint.com/event/we-love-michigan-day/
LOCATION:Queens’ Provisions\, 421 Garland St.\, Flint\, MI\, 48503\, United States
ORGANIZER;CN="Emily Doerr":MAILTO:emily@queensofflint.com
END:VEVENT
BEGIN:VEVENT
DTSTART;TZID=UTC:20251122T180000
DTEND;TZID=UTC:20251122T203000
DTSTAMP:20260424T005459
CREATED:20251103T001053Z
LAST-MODIFIED:20251103T001210Z
UID:1275-1763834400-1763843400@queensofflint.com
SUMMARY:Passages Storytelling: "Feast or Famine"
DESCRIPTION:
URL:https://queensofflint.com/event/passages-storytelling-feast-or-famine/
LOCATION:Queens’ Provisions\, 421 Garland St.\, Flint\, MI\, 48503\, United States
END:VEVENT
BEGIN:VEVENT
DTSTART;TZID=UTC:20251119T183000
DTEND;TZID=UTC:20251119T203000
DTSTAMP:20260424T005459
CREATED:20251114T044501Z
LAST-MODIFIED:20251114T044501Z
UID:1308-1763577000-1763584200@queensofflint.com
SUMMARY:Art History trivia
DESCRIPTION:
URL:https://queensofflint.com/event/art-history-trivia/
LOCATION:Queens’ Provisions\, 421 Garland St.\, Flint\, MI\, 48503\, United States
END:VEVENT
BEGIN:VEVENT
DTSTART;TZID=UTC:20251119T173000
DTEND;TZID=UTC:20251119T183000
DTSTAMP:20260424T005459
CREATED:20251114T044334Z
LAST-MODIFIED:20251114T044334Z
UID:1306-1763573400-1763577000@queensofflint.com
SUMMARY:FIA Community Gala Mixer
DESCRIPTION:
URL:https://queensofflint.com/event/fia-community-gala-mixer/
LOCATION:Queens’ Provisions\, 421 Garland St.\, Flint\, MI\, 48503\, United States
END:VEVENT
BEGIN:VEVENT
DTSTART;TZID=UTC:20251112T183000
DTEND;TZID=UTC:20251112T200000
DTSTAMP:20260424T005459
CREATED:20251022T184124Z
LAST-MODIFIED:20251022T184124Z
UID:1251-1762972200-1762977600@queensofflint.com
SUMMARY:4-course dinner + All Natural Wines by Martha Stoumen pairing
DESCRIPTION:
URL:https://queensofflint.com/event/4-course-dinner-all-natural-wines-by-martha-stoumen-pairing/
LOCATION:Queens’ Provisions\, 421 Garland St.\, Flint\, MI\, 48503\, United States
ORGANIZER;CN="Emily Doerr":MAILTO:emily@queensofflint.com
END:VEVENT
BEGIN:VEVENT
DTSTART;TZID=UTC:20251111T180000
DTEND;TZID=UTC:20251111T200000
DTSTAMP:20260424T005459
CREATED:20251103T002317Z
LAST-MODIFIED:20251108T213426Z
UID:1281-1762884000-1762891200@queensofflint.com
SUMMARY:Local Grocer dinner pop-up: Soup Flight + Grilled Cheese!
DESCRIPTION:Featured at Market Tap two weeks ago\, it’s back by popular demand at Queens!!! \n \n 
URL:https://queensofflint.com/event/local-grocer-dinner-pop-up-soup-flight-grilled-cheese/
LOCATION:Queens’ Provisions\, 421 Garland St.\, Flint\, MI\, 48503\, United States
END:VEVENT
BEGIN:VEVENT
DTSTART;TZID=UTC:20251109T150000
DTEND;TZID=UTC:20251109T170000
DTSTAMP:20260424T005459
CREATED:20251103T000953Z
LAST-MODIFIED:20251103T000953Z
UID:1272-1762700400-1762707600@queensofflint.com
SUMMARY:Issa K's Candle Making Experience
DESCRIPTION:Your ticket includes: \n✅ All candle-making supplies \n✅ 2 glasses of wine \n✅ Charcuterie snacks
URL:https://queensofflint.com/event/issa-ks-candle-making-experience/
LOCATION:Queens’ Provisions\, 421 Garland St.\, Flint\, MI\, 48503\, United States
END:VEVENT
BEGIN:VEVENT
DTSTART;TZID=UTC:20251108T120000
DTEND;TZID=UTC:20251108T150000
DTSTAMP:20260424T005459
CREATED:20251103T000636Z
LAST-MODIFIED:20251103T000636Z
UID:1269-1762603200-1762614000@queensofflint.com
SUMMARY:Drag Lunch fundraiser for Michigan Marriage Equality future ballot initiative
DESCRIPTION:
URL:https://queensofflint.com/event/drag-lunch-fundraiser-for-michigan-marriage-equality-future-ballot-initiative/
LOCATION:Queens’ Provisions\, 421 Garland St.\, Flint\, MI\, 48503\, United States
END:VEVENT
BEGIN:VEVENT
DTSTART;TZID=UTC:20251107T190000
DTEND;TZID=UTC:20251107T210000
DTSTAMP:20260424T005459
CREATED:20251103T000426Z
LAST-MODIFIED:20251103T000426Z
UID:1263-1762542000-1762549200@queensofflint.com
SUMMARY:Thistle Groove Collective jazz trio (sponsored by GFAC "First Fridays on the Bricks")
DESCRIPTION:
URL:https://queensofflint.com/event/thistle-groove-collective-jazz-trio-sponsored-by-gfac-first-fridays-on-the-bricks/
LOCATION:Queens’ Provisions\, 421 Garland St.\, Flint\, MI\, 48503\, United States
ORGANIZER;CN="Emily Doerr":MAILTO:emily@queensofflint.com
END:VEVENT
BEGIN:VEVENT
DTSTART;TZID=UTC:20251103T173000
DTEND;TZID=UTC:20251103T193000
DTSTAMP:20260424T005459
CREATED:20251030T201045Z
LAST-MODIFIED:20251030T201045Z
UID:1256-1762191000-1762198200@queensofflint.com
SUMMARY:Scholars on Tap: Dr. Rick Sadler presentation on "Beyond Redlining" urban development patterns research
DESCRIPTION:
URL:https://queensofflint.com/event/scholars-on-tap-dr-rick-sadler-presentation-on-beyond-redlining-urban-development-patterns-research/
LOCATION:Queens’ Provisions\, 421 Garland St.\, Flint\, MI\, 48503\, United States
ORGANIZER;CN="Emily Doerr":MAILTO:emily@queensofflint.com
END:VEVENT
BEGIN:VEVENT
DTSTART;TZID=UTC:20251031T180000
DTEND;TZID=UTC:20251031T220000
DTSTAMP:20260424T005459
CREATED:20251010T192931Z
LAST-MODIFIED:20251010T192931Z
UID:1225-1761933600-1761948000@queensofflint.com
SUMMARY:GHOST PARTY w/ DJ Glitchy Galdr
DESCRIPTION:
URL:https://queensofflint.com/event/ghost-party-w-dj-glitchy-galdr/
LOCATION:Queens’ Provisions\, 421 Garland St.\, Flint\, MI\, 48503\, United States
ORGANIZER;CN="Emily Doerr":MAILTO:emily@queensofflint.com
END:VEVENT
BEGIN:VEVENT
DTSTART;TZID=UTC:20251030T183000
DTEND;TZID=UTC:20251030T203000
DTSTAMP:20260424T005459
CREATED:20251017T174723Z
LAST-MODIFIED:20251017T174757Z
UID:1240-1761849000-1761856200@queensofflint.com
SUMMARY:Flint Meet and Greet: Abdul El-Sayed for Senate
DESCRIPTION:https://www.mobilize.us/abdulforsenate/event/859600/
URL:https://queensofflint.com/event/flint-meet-and-greet-abdul-el-sayed-for-senate/
LOCATION:Queens’ Provisions\, 421 Garland St.\, Flint\, MI\, 48503\, United States
END:VEVENT
BEGIN:VEVENT
DTSTART;TZID=UTC:20251029T183000
DTEND;TZID=UTC:20251029T203000
DTSTAMP:20260424T005459
CREATED:20251010T192809Z
LAST-MODIFIED:20251010T192809Z
UID:1223-1761762600-1761769800@queensofflint.com
SUMMARY:Trivia: famous vampires\, zombies\, and witches
DESCRIPTION:
URL:https://queensofflint.com/event/trivia-famous-vampires-zombies-and-witches/
LOCATION:Queens’ Provisions\, 421 Garland St.\, Flint\, MI\, 48503\, United States
ORGANIZER;CN="Emily Doerr":MAILTO:emily@queensofflint.com
END:VEVENT
BEGIN:VEVENT
DTSTART;TZID=UTC:20251027T180000
DTEND;TZID=UTC:20251027T200000
DTSTAMP:20260424T005459
CREATED:20251010T192551Z
LAST-MODIFIED:20251010T192716Z
UID:1221-1761588000-1761595200@queensofflint.com
SUMMARY:Weekly Game Night
DESCRIPTION:
URL:https://queensofflint.com/event/weekly-game-night-3/
LOCATION:Queens’ Provisions\, 421 Garland St.\, Flint\, MI\, 48503\, United States
ORGANIZER;CN="Emily Doerr":MAILTO:emily@queensofflint.com
END:VEVENT
BEGIN:VEVENT
DTSTART;TZID=UTC:20251025T180000
DTEND;TZID=UTC:20251025T210000
DTSTAMP:20260424T005459
CREATED:20251010T192442Z
LAST-MODIFIED:20251010T192442Z
UID:1218-1761415200-1761426000@queensofflint.com
SUMMARY:Passages Storytelling Event: "The Road Not Taken"
DESCRIPTION:
URL:https://queensofflint.com/event/passages-storytelling-event-the-road-not-taken/
LOCATION:Queens’ Provisions\, 421 Garland St.\, Flint\, MI\, 48503\, United States
ORGANIZER;CN="Emily Doerr":MAILTO:emily@queensofflint.com
END:VEVENT
BEGIN:VEVENT
DTSTART;TZID=UTC:20251024T180000
DTEND;TZID=UTC:20251024T210000
DTSTAMP:20260424T005459
CREATED:20251010T192251Z
LAST-MODIFIED:20251010T192251Z
UID:1216-1761328800-1761339600@queensofflint.com
SUMMARY:Vinyl Night with Totem Books
DESCRIPTION:
URL:https://queensofflint.com/event/vinyl-night-with-totem-books/
LOCATION:Queens’ Provisions\, 421 Garland St.\, Flint\, MI\, 48503\, United States
ORGANIZER;CN="Emily Doerr":MAILTO:emily@queensofflint.com
END:VEVENT
BEGIN:VEVENT
DTSTART;TZID=UTC:20251023T183000
DTEND;TZID=UTC:20251023T203000
DTSTAMP:20260424T005459
CREATED:20250930T185410Z
LAST-MODIFIED:20250930T185410Z
UID:1180-1761244200-1761251400@queensofflint.com
SUMMARY:5-course Fall dinner + Modales' organic wine pairings: $50
DESCRIPTION:
URL:https://queensofflint.com/event/5-course-fall-dinner-modales-organic-wine-pairings-50/
LOCATION:Queens’ Provisions\, 421 Garland St.\, Flint\, MI\, 48503\, United States
ORGANIZER;CN="Emily Doerr":MAILTO:emily@queensofflint.com
END:VEVENT
BEGIN:VEVENT
DTSTART;TZID=UTC:20251022T183000
DTEND;TZID=UTC:20251022T203000
DTSTAMP:20260424T005459
CREATED:20251010T192157Z
LAST-MODIFIED:20251010T192157Z
UID:1213-1761157800-1761165000@queensofflint.com
SUMMARY:Trivia: We love the 90s!
DESCRIPTION:
URL:https://queensofflint.com/event/trivia-we-love-the-90s/
LOCATION:Queens’ Provisions\, 421 Garland St.\, Flint\, MI\, 48503\, United States
ORGANIZER;CN="Emily Doerr":MAILTO:emily@queensofflint.com
END:VEVENT
BEGIN:VEVENT
DTSTART;TZID=UTC:20251021T180000
DTEND;TZID=UTC:20251021T203000
DTSTAMP:20260424T005459
CREATED:20251014T134833Z
LAST-MODIFIED:20251017T175020Z
UID:1232-1761069600-1761078600@queensofflint.com
SUMMARY:Oktoberfest Pop-up with Local Grocer and Andrew Teel Music
DESCRIPTION:
URL:https://queensofflint.com/event/oktoberfest-pop-up-with-local-grocer-and-andrew-teel-music/
LOCATION:Queens’ Provisions\, 421 Garland St.\, Flint\, MI\, 48503\, United States
ORGANIZER;CN="Emily Doerr":MAILTO:emily@queensofflint.com
END:VEVENT
BEGIN:VEVENT
DTSTART;TZID=UTC:20251020T180000
DTEND;TZID=UTC:20251020T200000
DTSTAMP:20260424T005459
CREATED:20251010T192106Z
LAST-MODIFIED:20251010T192106Z
UID:1211-1760983200-1760990400@queensofflint.com
SUMMARY:Weekly Game Night
DESCRIPTION:
URL:https://queensofflint.com/event/weekly-game-night-2/
LOCATION:Queens’ Provisions\, 421 Garland St.\, Flint\, MI\, 48503\, United States
ORGANIZER;CN="Emily Doerr":MAILTO:emily@queensofflint.com
END:VEVENT
BEGIN:VEVENT
DTSTART;TZID=UTC:20251017T190000
DTEND;TZID=UTC:20251017T210000
DTSTAMP:20260424T005459
CREATED:20251010T192012Z
LAST-MODIFIED:20251010T192012Z
UID:1208-1760727600-1760734800@queensofflint.com
SUMMARY:3rd Friday: Monthly Blues Night hosted by Tito Villarreal "Tru Blu"
DESCRIPTION:
URL:https://queensofflint.com/event/3rd-friday-monthly-blues-night-hosted-by-tito-villarreal-tru-blu/
LOCATION:Queens’ Provisions\, 421 Garland St.\, Flint\, MI\, 48503\, United States
ORGANIZER;CN="Emily Doerr":MAILTO:emily@queensofflint.com
END:VEVENT
BEGIN:VEVENT
DTSTART;TZID=UTC:20251016T173000
DTEND;TZID=UTC:20251016T203000
DTSTAMP:20260424T005459
CREATED:20251010T191905Z
LAST-MODIFIED:20251010T191905Z
UID:1205-1760635800-1760646600@queensofflint.com
SUMMARY:Grilled Cheese Thursdays - rotating ingredients
DESCRIPTION:
URL:https://queensofflint.com/event/grilled-cheese-thursdays-rotating-ingredients/
LOCATION:Queens’ Provisions\, 421 Garland St.\, Flint\, MI\, 48503\, United States
ORGANIZER;CN="Emily Doerr":MAILTO:emily@queensofflint.com
END:VEVENT
BEGIN:VEVENT
DTSTART;TZID=UTC:20251016T170000
DTEND;TZID=UTC:20251016T190000
DTSTAMP:20260424T005459
CREATED:20251010T191723Z
LAST-MODIFIED:20251010T191808Z
UID:1203-1760634000-1760641200@queensofflint.com
SUMMARY:Special "Thirsty Thursday" event for Genesee County Rotary Club: trivia!
DESCRIPTION:Trivia starts at 5:30pm – teams of 4 people – all are welcome! \nRound 1: 10 questions on Rotary \nRound 2: 10 questions on other service organizations \nRound 3: Flint history questions
URL:https://queensofflint.com/event/special-thirsty-thursday-event-for-genesee-county-rotary-club-trivia/
LOCATION:Queens’ Provisions\, 421 Garland St.\, Flint\, MI\, 48503\, United States
ORGANIZER;CN="Emily Doerr":MAILTO:emily@queensofflint.com
END:VEVENT
BEGIN:VEVENT
DTSTART;TZID=UTC:20251015T183000
DTEND;TZID=UTC:20251015T203000
DTSTAMP:20260424T005459
CREATED:20251010T191523Z
LAST-MODIFIED:20251010T191523Z
UID:1199-1760553000-1760560200@queensofflint.com
SUMMARY:Trivia: mixed bag of topics
DESCRIPTION:
URL:https://queensofflint.com/event/trivia-mixed-bag-of-topics/
LOCATION:Queens’ Provisions\, 421 Garland St.\, Flint\, MI\, 48503\, United States
ORGANIZER;CN="Emily Doerr":MAILTO:emily@queensofflint.com
END:VEVENT
BEGIN:VEVENT
DTSTART;TZID=UTC:20251013T180000
DTEND;TZID=UTC:20251013T200000
DTSTAMP:20260424T005459
CREATED:20251010T190935Z
LAST-MODIFIED:20251010T191244Z
UID:1197-1760378400-1760385600@queensofflint.com
SUMMARY:Weekly Game Night!
DESCRIPTION:
URL:https://queensofflint.com/event/weekly-game-night/
LOCATION:Queens’ Provisions\, 421 Garland St.\, Flint\, MI\, 48503\, United States
END:VEVENT
BEGIN:VEVENT
DTSTART;TZID=UTC:20251011T180000
DTEND;TZID=UTC:20251011T220000
DTSTAMP:20260424T005459
CREATED:20251010T190814Z
LAST-MODIFIED:20251010T190830Z
UID:1194-1760205600-1760220000@queensofflint.com
SUMMARY:Wine and Rhymes by Jeff Skigh
DESCRIPTION:
URL:https://queensofflint.com/event/wine-and-rhymes-by-jeff-skigh/
LOCATION:Queens’ Provisions\, 421 Garland St.\, Flint\, MI\, 48503\, United States
END:VEVENT
END:VCALENDAR