BEGIN:VCALENDAR
VERSION:2.0
PRODID:-//Queens&#039; Provisions - ECPv6.15.20//NONSGML v1.0//EN
CALSCALE:GREGORIAN
METHOD:PUBLISH
X-ORIGINAL-URL:https://queensofflint.com
X-WR-CALDESC:Events for Queens&#039; Provisions
REFRESH-INTERVAL;VALUE=DURATION:PT1H
X-Robots-Tag:noindex
X-PUBLISHED-TTL:PT1H
BEGIN:VTIMEZONE
TZID:UTC
BEGIN:STANDARD
TZOFFSETFROM:+0000
TZOFFSETTO:+0000
TZNAME:UTC
DTSTART:20240101T000000
END:STANDARD
END:VTIMEZONE
BEGIN:VEVENT
DTSTART;TZID=UTC:20251017T190000
DTEND;TZID=UTC:20251017T210000
DTSTAMP:20260424T032128
CREATED:20251010T192012Z
LAST-MODIFIED:20251010T192012Z
UID:1208-1760727600-1760734800@queensofflint.com
SUMMARY:3rd Friday: Monthly Blues Night hosted by Tito Villarreal "Tru Blu"
DESCRIPTION:
URL:https://queensofflint.com/event/3rd-friday-monthly-blues-night-hosted-by-tito-villarreal-tru-blu/
LOCATION:Queens’ Provisions\, 421 Garland St.\, Flint\, MI\, 48503\, United States
ORGANIZER;CN="Emily Doerr":MAILTO:emily@queensofflint.com
END:VEVENT
BEGIN:VEVENT
DTSTART;TZID=UTC:20251016T173000
DTEND;TZID=UTC:20251016T203000
DTSTAMP:20260424T032128
CREATED:20251010T191905Z
LAST-MODIFIED:20251010T191905Z
UID:1205-1760635800-1760646600@queensofflint.com
SUMMARY:Grilled Cheese Thursdays - rotating ingredients
DESCRIPTION:
URL:https://queensofflint.com/event/grilled-cheese-thursdays-rotating-ingredients/
LOCATION:Queens’ Provisions\, 421 Garland St.\, Flint\, MI\, 48503\, United States
ORGANIZER;CN="Emily Doerr":MAILTO:emily@queensofflint.com
END:VEVENT
BEGIN:VEVENT
DTSTART;TZID=UTC:20251016T170000
DTEND;TZID=UTC:20251016T190000
DTSTAMP:20260424T032128
CREATED:20251010T191723Z
LAST-MODIFIED:20251010T191808Z
UID:1203-1760634000-1760641200@queensofflint.com
SUMMARY:Special "Thirsty Thursday" event for Genesee County Rotary Club: trivia!
DESCRIPTION:Trivia starts at 5:30pm – teams of 4 people – all are welcome! \nRound 1: 10 questions on Rotary \nRound 2: 10 questions on other service organizations \nRound 3: Flint history questions
URL:https://queensofflint.com/event/special-thirsty-thursday-event-for-genesee-county-rotary-club-trivia/
LOCATION:Queens’ Provisions\, 421 Garland St.\, Flint\, MI\, 48503\, United States
ORGANIZER;CN="Emily Doerr":MAILTO:emily@queensofflint.com
END:VEVENT
BEGIN:VEVENT
DTSTART;TZID=UTC:20251015T183000
DTEND;TZID=UTC:20251015T203000
DTSTAMP:20260424T032128
CREATED:20251010T191523Z
LAST-MODIFIED:20251010T191523Z
UID:1199-1760553000-1760560200@queensofflint.com
SUMMARY:Trivia: mixed bag of topics
DESCRIPTION:
URL:https://queensofflint.com/event/trivia-mixed-bag-of-topics/
LOCATION:Queens’ Provisions\, 421 Garland St.\, Flint\, MI\, 48503\, United States
ORGANIZER;CN="Emily Doerr":MAILTO:emily@queensofflint.com
END:VEVENT
BEGIN:VEVENT
DTSTART;TZID=UTC:20251013T180000
DTEND;TZID=UTC:20251013T200000
DTSTAMP:20260424T032128
CREATED:20251010T190935Z
LAST-MODIFIED:20251010T191244Z
UID:1197-1760378400-1760385600@queensofflint.com
SUMMARY:Weekly Game Night!
DESCRIPTION:
URL:https://queensofflint.com/event/weekly-game-night/
LOCATION:Queens’ Provisions\, 421 Garland St.\, Flint\, MI\, 48503\, United States
END:VEVENT
BEGIN:VEVENT
DTSTART;TZID=UTC:20251011T180000
DTEND;TZID=UTC:20251011T220000
DTSTAMP:20260424T032128
CREATED:20251010T190814Z
LAST-MODIFIED:20251010T190830Z
UID:1194-1760205600-1760220000@queensofflint.com
SUMMARY:Wine and Rhymes by Jeff Skigh
DESCRIPTION:
URL:https://queensofflint.com/event/wine-and-rhymes-by-jeff-skigh/
LOCATION:Queens’ Provisions\, 421 Garland St.\, Flint\, MI\, 48503\, United States
END:VEVENT
BEGIN:VEVENT
DTSTART;TZID=UTC:20251008T183000
DTEND;TZID=UTC:20251008T200000
DTSTAMP:20260424T032128
CREATED:20250903T180547Z
LAST-MODIFIED:20250903T180547Z
UID:1152-1759948200-1759953600@queensofflint.com
SUMMARY:Trivia: WE LOVE THE EIGHTIES
DESCRIPTION:
URL:https://queensofflint.com/event/trivia-we-love-the-eighties/
LOCATION:Queens’ Provisions\, 421 Garland St.\, Flint\, MI\, 48503\, United States
ORGANIZER;CN="Emily Doerr":MAILTO:emily@queensofflint.com
END:VEVENT
BEGIN:VEVENT
DTSTART;TZID=UTC:20251003T183000
DTEND;TZID=UTC:20251003T203000
DTSTAMP:20260424T032128
CREATED:20251001T175856Z
LAST-MODIFIED:20251001T175856Z
UID:1188-1759516200-1759523400@queensofflint.com
SUMMARY:Jen Naegele and Jake Priest live for First Fridays (sponsored by GFAC)
DESCRIPTION:
URL:https://queensofflint.com/event/jen-naegele-and-jake-priest-live-for-first-fridays-sponsored-by-gfac/
LOCATION:Queens’ Provisions\, 421 Garland St.\, Flint\, MI\, 48503\, United States
ORGANIZER;CN="Emily Doerr":MAILTO:emily@queensofflint.com
END:VEVENT
BEGIN:VEVENT
DTSTART;TZID=UTC:20251001T183000
DTEND;TZID=UTC:20251001T203000
DTSTAMP:20260424T032128
CREATED:20250903T180511Z
LAST-MODIFIED:20250903T180511Z
UID:1150-1759343400-1759350600@queensofflint.com
SUMMARY:Trivia: UM-Flint Homecoming
DESCRIPTION:
URL:https://queensofflint.com/event/trivia-um-flint-homecoming/
LOCATION:Queens’ Provisions\, 421 Garland St.\, Flint\, MI\, 48503\, United States
ORGANIZER;CN="Emily Doerr":MAILTO:emily@queensofflint.com
END:VEVENT
BEGIN:VEVENT
DTSTART;TZID=UTC:20250927T180000
DTEND;TZID=UTC:20250927T203000
DTSTAMP:20260424T032128
CREATED:20250903T180745Z
LAST-MODIFIED:20250903T180745Z
UID:1156-1758996000-1759005000@queensofflint.com
SUMMARY:Passages Storytelling event: "Risk"
DESCRIPTION:
URL:https://queensofflint.com/event/passages-storytelling-event-risk/
LOCATION:Queens’ Provisions\, 421 Garland St.\, Flint\, MI\, 48503\, United States
ORGANIZER;CN="Emily Doerr":MAILTO:emily@queensofflint.com
END:VEVENT
BEGIN:VEVENT
DTSTART;TZID=UTC:20250926T180000
DTEND;TZID=UTC:20250926T220000
DTSTAMP:20260424T032128
CREATED:20250903T180658Z
LAST-MODIFIED:20250903T180658Z
UID:1154-1758909600-1758924000@queensofflint.com
SUMMARY:Final "Vinyl Vibes" Dance Party in Peoples Plaza of 2025!
DESCRIPTION:
URL:https://queensofflint.com/event/final-vinyl-vibes-dance-party-in-peoples-plaza-of-2025/
LOCATION:Queens’ Provisions\, 421 Garland St.\, Flint\, MI\, 48503\, United States
ORGANIZER;CN="Emily Doerr":MAILTO:emily@queensofflint.com
END:VEVENT
BEGIN:VEVENT
DTSTART;TZID=UTC:20250924T183000
DTEND;TZID=UTC:20250924T200000
DTSTAMP:20260424T032128
CREATED:20250903T180432Z
LAST-MODIFIED:20250903T180432Z
UID:1148-1758738600-1758744000@queensofflint.com
SUMMARY:Trivia: Disney Parks
DESCRIPTION:
URL:https://queensofflint.com/event/trivia-disney-parks/
LOCATION:Queens’ Provisions\, 421 Garland St.\, Flint\, MI\, 48503\, United States
ORGANIZER;CN="Emily Doerr":MAILTO:emily@queensofflint.com
END:VEVENT
BEGIN:VEVENT
DTSTART;TZID=UTC:20250922T180000
DTEND;TZID=UTC:20250922T200000
DTSTAMP:20260424T032128
CREATED:20250903T181119Z
LAST-MODIFIED:20250903T181119Z
UID:1162-1758564000-1758571200@queensofflint.com
SUMMARY:Free Weekly Monday Game Nights – partnership with Ikigai Productions
DESCRIPTION:
URL:https://queensofflint.com/event/free-weekly-monday-game-nights-partnership-with-ikigai-productions-3/
LOCATION:Queens’ Provisions\, 421 Garland St.\, Flint\, MI\, 48503\, United States
ORGANIZER;CN="Emily Doerr":MAILTO:emily@queensofflint.com
END:VEVENT
BEGIN:VEVENT
DTSTART;TZID=UTC:20250917T183000
DTEND;TZID=UTC:20250917T203000
DTSTAMP:20260424T032128
CREATED:20250903T180345Z
LAST-MODIFIED:20250903T180345Z
UID:1146-1758133800-1758141000@queensofflint.com
SUMMARY:Trivia: Celebrating National Hispanic Heritage Month
DESCRIPTION:
URL:https://queensofflint.com/event/trivia-celebrating-national-hispanic-heritage-month/
LOCATION:Queens’ Provisions\, 421 Garland St.\, Flint\, MI\, 48503\, United States
ORGANIZER;CN="Emily Doerr":MAILTO:emily@queensofflint.com
END:VEVENT
BEGIN:VEVENT
DTSTART;TZID=UTC:20250915T180000
DTEND;TZID=UTC:20250915T200000
DTSTAMP:20260424T032128
CREATED:20250903T180935Z
LAST-MODIFIED:20250903T180935Z
UID:1159-1757959200-1757966400@queensofflint.com
SUMMARY:Free Weekly Monday Game Nights – partnership with Ikigai Productions
DESCRIPTION:
URL:https://queensofflint.com/event/free-weekly-monday-game-nights-partnership-with-ikigai-productions-2/
LOCATION:Queens’ Provisions\, 421 Garland St.\, Flint\, MI\, 48503\, United States
ORGANIZER;CN="Emily Doerr":MAILTO:emily@queensofflint.com
END:VEVENT
BEGIN:VEVENT
DTSTART;TZID=UTC:20250912T183000
DTEND;TZID=UTC:20250912T203000
DTSTAMP:20260424T032128
CREATED:20250903T181238Z
LAST-MODIFIED:20250903T181238Z
UID:1165-1757701800-1757709000@queensofflint.com
SUMMARY:ArtWalk Live Music: Cainaen McGhee
DESCRIPTION:
URL:https://queensofflint.com/event/artwalk-live-music-cainaen-mcghee/
LOCATION:Queens’ Provisions\, 421 Garland St.\, Flint\, MI\, 48503\, United States
ORGANIZER;CN="Emily Doerr":MAILTO:emily@queensofflint.com
END:VEVENT
BEGIN:VEVENT
DTSTART;TZID=UTC:20250910T183000
DTEND;TZID=UTC:20250910T200000
DTSTAMP:20260424T032128
CREATED:20250903T180211Z
LAST-MODIFIED:20250903T180834Z
UID:1143-1757529000-1757534400@queensofflint.com
SUMMARY:STAR TREK TRIVIA
DESCRIPTION:
URL:https://queensofflint.com/event/star-trek-trivia/
LOCATION:Queens’ Provisions\, 421 Garland St.\, Flint\, MI\, 48503\, United States
ORGANIZER;CN="Emily Doerr":MAILTO:emily@queensofflint.com
END:VEVENT
BEGIN:VEVENT
DTSTART;TZID=UTC:20250909T180000
DTEND;TZID=UTC:20250909T200000
DTSTAMP:20260424T032128
CREATED:20250903T015745Z
LAST-MODIFIED:20250903T015745Z
UID:1129-1757440800-1757448000@queensofflint.com
SUMMARY:Local Grocer 3-course Harvest Dinner paired with 3 organic wine samples from Modales Winery
DESCRIPTION:Buy your ticket now and show your support for more Tuesday night dinner pop-ups by Local Grocer at Queens!!
URL:https://queensofflint.com/event/local-grocer-3-course-harvest-dinner-paired-with-3-organic-wine-samples-from-modales-winery/
LOCATION:Queens’ Provisions\, 421 Garland St.\, Flint\, MI\, 48503\, United States
ORGANIZER;CN="Emily Doerr":MAILTO:emily@queensofflint.com
END:VEVENT
BEGIN:VEVENT
DTSTART;TZID=UTC:20250908T180000
DTEND;TZID=UTC:20250908T200000
DTSTAMP:20260424T032128
CREATED:20250903T180129Z
LAST-MODIFIED:20250903T180129Z
UID:1141-1757354400-1757361600@queensofflint.com
SUMMARY:Free Weekly Monday Game Nights - partnership with Ikigai Productions
DESCRIPTION:
URL:https://queensofflint.com/event/free-weekly-monday-game-nights-partnership-with-ikigai-productions/
LOCATION:Queens’ Provisions\, 421 Garland St.\, Flint\, MI\, 48503\, United States
ORGANIZER;CN="Emily Doerr":MAILTO:emily@queensofflint.com
END:VEVENT
BEGIN:VEVENT
DTSTART;TZID=UTC:20250905T183000
DTEND;TZID=UTC:20250905T203000
DTSTAMP:20260424T032128
CREATED:20250903T175941Z
LAST-MODIFIED:20250903T175941Z
UID:1139-1757097000-1757104200@queensofflint.com
SUMMARY:First Friday live music: Isaac Ryder! (folk\, soul\, jazz\, jam roots)
DESCRIPTION:
URL:https://queensofflint.com/event/first-friday-live-music-isaac-ryder-folk-soul-jazz-jam-roots/
LOCATION:Queens’ Provisions\, 421 Garland St.\, Flint\, MI\, 48503\, United States
ORGANIZER;CN="Emily Doerr":MAILTO:emily@queensofflint.com
END:VEVENT
BEGIN:VEVENT
DTSTART;TZID=UTC:20250817T150000
DTEND;TZID=UTC:20250817T170000
DTSTAMP:20260424T032128
CREATED:20250718T181411Z
LAST-MODIFIED:20250718T181411Z
UID:1075-1755442800-1755450000@queensofflint.com
SUMMARY:KKandles Candlemaking Experience!
DESCRIPTION:
URL:https://queensofflint.com/event/kkandles-candlemaking-experience/
LOCATION:Queens’ Provisions\, 421 Garland St.\, Flint\, MI\, 48503\, United States
END:VEVENT
BEGIN:VEVENT
DTSTART;TZID=UTC:20250809T180000
DTEND;TZID=UTC:20250809T210000
DTSTAMP:20260424T032128
CREATED:20250718T181010Z
LAST-MODIFIED:20250724T163609Z
UID:1072-1754762400-1754773200@queensofflint.com
SUMMARY:August Passages: NEW DATE (8/9) with "Personal Victory" theme - special focus on Crim stories
DESCRIPTION:
URL:https://queensofflint.com/event/august-passages-new-date-8-9-with-personal-victory-theme-special-focus-on-crim-stories/
LOCATION:Queens’ Provisions\, 421 Garland St.\, Flint\, MI\, 48503\, United States
ORGANIZER;CN="Emily Doerr":MAILTO:emily@queensofflint.com
END:VEVENT
BEGIN:VEVENT
DTSTART;TZID=UTC:20250808T190000
DTEND;TZID=UTC:20250808T210000
DTSTAMP:20260424T032128
CREATED:20250718T175401Z
LAST-MODIFIED:20250718T175401Z
UID:1063-1754679600-1754686800@queensofflint.com
SUMMARY:August ArtWalk at Peoples Plaza: Origami Phase with Serenity Grant opening
DESCRIPTION:
URL:https://queensofflint.com/event/august-artwalk-at-peoples-plaza-origami-phase-with-serenity-grant-opening/
LOCATION:Queens’ Provisions\, 421 Garland St.\, Flint\, MI\, 48503\, United States
ORGANIZER;CN="Emily Doerr":MAILTO:emily@queensofflint.com
END:VEVENT
BEGIN:VEVENT
DTSTART;TZID=UTC:20250803T110000
DTEND;TZID=UTC:20250803T170000
DTSTAMP:20260424T032128
CREATED:20250724T163735Z
LAST-MODIFIED:20250729T044938Z
UID:1091-1754218800-1754240400@queensofflint.com
SUMMARY:Queens 2nd Anniversary Party: BACCHANALIA BLOCK PARTY
DESCRIPTION:
URL:https://queensofflint.com/event/queens-2nd-anniversary-party-bacchanalia-block-party/
LOCATION:Queens’ Provisions\, 421 Garland St.\, Flint\, MI\, 48503\, United States
ORGANIZER;CN="Emily Doerr":MAILTO:emily@queensofflint.com
END:VEVENT
BEGIN:VEVENT
DTSTART;TZID=UTC:20250731T183000
DTEND;TZID=UTC:20250731T200000
DTSTAMP:20260424T032128
CREATED:20250728T145405Z
LAST-MODIFIED:20250728T150402Z
UID:1103-1753986600-1753992000@queensofflint.com
SUMMARY:"Josh and friends" musical performance
DESCRIPTION:
URL:https://queensofflint.com/event/josh-and-friends-musical-performance/
LOCATION:Queens’ Provisions\, 421 Garland St.\, Flint\, MI\, 48503\, United States
ORGANIZER;CN="Emily Doerr":MAILTO:emily@queensofflint.com
END:VEVENT
BEGIN:VEVENT
DTSTART;TZID=UTC:20250730T183000
DTEND;TZID=UTC:20250730T203000
DTSTAMP:20260424T032128
CREATED:20250718T181842Z
LAST-MODIFIED:20250718T181842Z
UID:1082-1753900200-1753907400@queensofflint.com
SUMMARY:STAR WARS TRIVIA
DESCRIPTION:
URL:https://queensofflint.com/event/star-wars-trivia/
LOCATION:Queens’ Provisions\, 421 Garland St.\, Flint\, MI\, 48503\, United States
ORGANIZER;CN="Emily Doerr":MAILTO:emily@queensofflint.com
END:VEVENT
BEGIN:VEVENT
DTSTART;TZID=UTC:20250729T180000
DTEND;TZID=UTC:20250729T193000
DTSTAMP:20260424T032128
CREATED:20250724T164139Z
LAST-MODIFIED:20250724T164139Z
UID:1096-1753812000-1753817400@queensofflint.com
SUMMARY:Spanish Conversation Club
DESCRIPTION:
URL:https://queensofflint.com/event/spanish-conversation-club/
LOCATION:Queens’ Provisions\, 421 Garland St.\, Flint\, MI\, 48503\, United States
ORGANIZER;CN="Emily Doerr":MAILTO:emily@queensofflint.com
END:VEVENT
BEGIN:VEVENT
DTSTART;TZID=UTC:20250727T140000
DTEND;TZID=UTC:20250727T153000
DTSTAMP:20260424T032128
CREATED:20250718T181728Z
LAST-MODIFIED:20250724T164318Z
UID:1080-1753624800-1753630200@queensofflint.com
SUMMARY:CANCELLED DUE TO HEAT: Sunday Funday Kickball - everyone welcome!
DESCRIPTION:
URL:https://queensofflint.com/event/sunday-funday-kickball-everyone-welcome/
LOCATION:Queens’ Provisions\, 421 Garland St.\, Flint\, MI\, 48503\, United States
ORGANIZER;CN="Emily Doerr":MAILTO:emily@queensofflint.com
END:VEVENT
BEGIN:VEVENT
DTSTART;TZID=UTC:20250726T180000
DTEND;TZID=UTC:20250726T210000
DTSTAMP:20260424T032128
CREATED:20250624T170728Z
LAST-MODIFIED:20250624T171341Z
UID:998-1753552800-1753563600@queensofflint.com
SUMMARY:Passages Storytelling: "Growing Pains" theme
DESCRIPTION:
URL:https://queensofflint.com/event/passages-storytelling-growing-pains-theme/
LOCATION:Queens’ Provisions\, 421 Garland St.\, Flint\, MI\, 48503\, United States
ORGANIZER;CN="Emily Doerr":MAILTO:emily@queensofflint.com
END:VEVENT
BEGIN:VEVENT
DTSTART;TZID=UTC:20250725T180000
DTEND;TZID=UTC:20250725T220000
DTSTAMP:20260424T032128
CREATED:20250718T181619Z
LAST-MODIFIED:20250724T163956Z
UID:1078-1753466400-1753480800@queensofflint.com
SUMMARY:Vinyl Vibes dance party in Peoples Plaza! With Smoke\, Rattle\, and Roll food truck
DESCRIPTION:
URL:https://queensofflint.com/event/vinyl-vibes-dance-party-in-peoples-plaza-with-smoke-rattle-and-roll-food-truck/
LOCATION:Queens’ Provisions\, 421 Garland St.\, Flint\, MI\, 48503\, United States
ORGANIZER;CN="Emily Doerr":MAILTO:emily@queensofflint.com
END:VEVENT
END:VCALENDAR